BEGIN:VCALENDAR
VERSION:2.0
PRODID:SchoolNow
CALSCALE:GREGORIAN
BEGIN:VEVENT
UID:a7150472-e50e-11f0-a5f7-0affef73b657
DTSTAMP:20251229T233234Z
SUMMARY:Sausage and Cheese Muffin or Cold Cereal\, Juice\, Milk\, Dried Che
 rries
URL;VALUE=URI:https://www.ronank12.edu/departments/food-service/calendar/88
 27647/sausage-and-cheese-muffin-or-cold-cereal-juice-milk-dried-cherries
DTSTART:20260115T150000Z
DTEND:20260115T153000Z
END:VEVENT
END:VCALENDAR
