BEGIN:VCALENDAR
VERSION:2.0
PRODID:SchoolNow
CALSCALE:GREGORIAN
BEGIN:VEVENT
UID:a7150684-e50e-11f0-8035-0affef73b657
DTSTAMP:20251229T233234Z
SUMMARY:Beef Taco on a Tortilla\, Lettuce\, Salsa\, Banana\, Roll\, Milk
URL;VALUE=URI:https://www.ronank12.edu/departments/food-service/calendar/88
 27648/beef-taco-on-a-tortilla-lettuce-salsa-banana-roll-milk
DTSTART:20260115T173000Z
DTEND:20260115T193000Z
END:VEVENT
END:VCALENDAR
