BEGIN:VCALENDAR
VERSION:2.0
PRODID:SchoolNow
CALSCALE:GREGORIAN
BEGIN:VEVENT
UID:a715086e-e50e-11f0-94c7-0affef73b657
DTSTAMP:20251229T233234Z
SUMMARY:Maple Bar\, String Cheese\, Apple Slices\, Milk
URL;VALUE=URI:https://www.ronank12.edu/departments/food-service/calendar/88
 27649/maple-bar-string-cheese-apple-slices-milk
DTSTART:20260116T150000Z
DTEND:20260116T153000Z
END:VEVENT
END:VCALENDAR
