BEGIN:VCALENDAR
VERSION:2.0
PRODID:SchoolNow
CALSCALE:GREGORIAN
BEGIN:VEVENT
UID:a7150ae4-e50e-11f0-b0a3-0affef73b657
DTSTAMP:20251229T233234Z
SUMMARY:Pepperoni Ripper\, Tossed Salad\, Broccoli\, Pineapple\, Milk
URL;VALUE=URI:https://www.ronank12.edu/departments/food-service/calendar/88
 27650/pepperoni-ripper-tossed-salad-broccoli-pineapple-milk
DTSTART:20260116T173000Z
DTEND:20260116T193000Z
END:VEVENT
END:VCALENDAR
