BEGIN:VCALENDAR
VERSION:2.0
PRODID:SchoolNow
CALSCALE:GREGORIAN
BEGIN:VEVENT
UID:a7150ec2-e50e-11f0-8cdd-0affef73b657
DTSTAMP:20251229T233234Z
SUMMARY:Cheesy Beef Pasta\, Tossed Salad\, Celery\, Mixed Fruit\, Roll\, Mi
 lk
URL;VALUE=URI:https://www.ronank12.edu/departments/food-service/calendar/88
 27652/cheesy-beef-pasta-tossed-salad-celery-mixed-fruit-roll-milk
DTSTART:20260120T173000Z
DTEND:20260120T193000Z
END:VEVENT
END:VCALENDAR
