BEGIN:VCALENDAR
VERSION:2.0
PRODID:SchoolNow
CALSCALE:GREGORIAN
BEGIN:VEVENT
UID:a71510ac-e50e-11f0-90be-0affef73b657
DTSTAMP:20251229T233234Z
SUMMARY:Pancake Sandwich\, Pears\, Milk
URL;VALUE=URI:https://www.ronank12.edu/departments/food-service/calendar/88
 27653/pancake-sandwich-pears-milk
DTSTART:20260121T150000Z
DTEND:20260121T153000Z
END:VEVENT
END:VCALENDAR
