BEGIN:VCALENDAR
VERSION:2.0
PRODID:SchoolNow
CALSCALE:GREGORIAN
BEGIN:VEVENT
UID:a71512aa-e50e-11f0-a3fc-0affef73b657
DTSTAMP:20251229T233234Z
SUMMARY:Homemade Pepperoni Pizza\, Tossed Salad\, Broccoli\, Pineapple\, Mi
 lk
URL;VALUE=URI:https://www.ronank12.edu/departments/food-service/calendar/88
 27654/homemade-pepperoni-pizza-tossed-salad-broccoli-pineapple-milk
DTSTART:20260121T173000Z
DTEND:20260121T193000Z
END:VEVENT
END:VCALENDAR
