BEGIN:VCALENDAR
VERSION:2.0
PRODID:SchoolNow
CALSCALE:GREGORIAN
BEGIN:VEVENT
UID:a715149e-e50e-11f0-9e46-0affef73b657
DTSTAMP:20251229T233234Z
SUMMARY:Cheese Omelet\, Toast\, Juice\, Craisins\, Milk
URL;VALUE=URI:https://www.ronank12.edu/departments/food-service/calendar/88
 27655/cheese-omelet-toast-juice-craisins-milk
DTSTART:20260122T150000Z
DTEND:20260122T153000Z
END:VEVENT
END:VCALENDAR
