BEGIN:VCALENDAR
VERSION:2.0
PRODID:SchoolNow
CALSCALE:GREGORIAN
BEGIN:VEVENT
UID:a71516a6-e50e-11f0-95e1-0affef73b657
DTSTAMP:20251229T233234Z
SUMMARY:Beef Chili\, Cinnamon Buns\, Carrots\, Banana Crackers\, Milk
URL;VALUE=URI:https://www.ronank12.edu/departments/food-service/calendar/88
 27656/beef-chili-cinnamon-buns-carrots-banana-crackers-milk
DTSTART:20260122T173000Z
DTEND:20260122T193000Z
END:VEVENT
END:VCALENDAR
