BEGIN:VCALENDAR
VERSION:2.0
PRODID:SchoolNow
CALSCALE:GREGORIAN
BEGIN:VEVENT
UID:a715189a-e50e-11f0-8602-0affef73b657
DTSTAMP:20251229T233234Z
SUMMARY:Strawberry Bagel\, Peaches\, Milk
URL;VALUE=URI:https://www.ronank12.edu/departments/food-service/calendar/88
 27657/strawberry-bagel-peaches-milk
DTSTART:20260123T150000Z
DTEND:20260123T153000Z
END:VEVENT
END:VCALENDAR
