BEGIN:VCALENDAR
VERSION:2.0
PRODID:SchoolNow
CALSCALE:GREGORIAN
BEGIN:VEVENT
UID:a7151aac-e50e-11f0-8fbf-0affef73b657
DTSTAMP:20251229T233234Z
SUMMARY:Hot Ham and Cheese Sandwich\, Cheesy Potatoes\, Green Beans\, Pears
 \, Milk
URL;VALUE=URI:https://www.ronank12.edu/departments/food-service/calendar/88
 27658/hot-ham-and-cheese-sandwich-cheesy-potatoes-green-beans-pears-milk
DTSTART:20260123T173000Z
DTEND:20260123T193000Z
END:VEVENT
END:VCALENDAR
