BEGIN:VCALENDAR
VERSION:2.0
PRODID:SchoolNow
CALSCALE:GREGORIAN
BEGIN:VEVENT
UID:a7151cfa-e50e-11f0-9877-0affef73b657
DTSTAMP:20251229T233234Z
SUMMARY:French Toast\, Applesauce\, Milk
URL;VALUE=URI:https://www.ronank12.edu/departments/food-service/calendar/88
 27659/french-toast-applesauce-milk
DTSTART:20260126T150000Z
DTEND:20260126T153000Z
END:VEVENT
END:VCALENDAR
