BEGIN:VCALENDAR
VERSION:2.0
PRODID:SchoolNow
CALSCALE:GREGORIAN
BEGIN:VEVENT
UID:a7151ee4-e50e-11f0-b377-0affef73b657
DTSTAMP:20251229T233234Z
SUMMARY:Teriyaki Chicken on Rice\, Carrots\, Broccoli\, Mandarin Oranges\, 
 Milk
URL;VALUE=URI:https://www.ronank12.edu/departments/food-service/calendar/88
 27660/teriyaki-chicken-on-rice-carrots-broccoli-mandarin-oranges-milk
DTSTART:20260126T173000Z
DTEND:20260126T193000Z
END:VEVENT
END:VCALENDAR
