BEGIN:VCALENDAR
VERSION:2.0
PRODID:SchoolNow
CALSCALE:GREGORIAN
BEGIN:VEVENT
UID:a715215a-e50e-11f0-9f4d-0affef73b657
DTSTAMP:20251229T233234Z
SUMMARY:Breakfast Pizza\, Juice\, Craisins\, Milk
URL;VALUE=URI:https://www.ronank12.edu/departments/food-service/calendar/88
 27661/breakfast-pizza-juice-craisins-milk
DTSTART:20260127T150000Z
DTEND:20260127T153000Z
END:VEVENT
END:VCALENDAR
