BEGIN:VCALENDAR
VERSION:2.0
PRODID:SchoolNow
CALSCALE:GREGORIAN
BEGIN:VEVENT
UID:a7152358-e50e-11f0-a768-0affef73b657
DTSTAMP:20251229T233234Z
SUMMARY:Taco Soup\, Carrots\, Applesauce\, Roll with PB\, Milk
URL;VALUE=URI:https://www.ronank12.edu/departments/food-service/calendar/88
 27662/taco-soup-carrots-applesauce-roll-with-pb-milk
DTSTART:20260127T173000Z
DTEND:20260127T193000Z
END:VEVENT
END:VCALENDAR
