BEGIN:VCALENDAR
VERSION:2.0
PRODID:SchoolNow
CALSCALE:GREGORIAN
BEGIN:VEVENT
UID:a7152542-e50e-11f0-88b0-0affef73b657
DTSTAMP:20251229T233234Z
SUMMARY:Biscuits and Gravy\, Mixed Fruit\, Milk
URL;VALUE=URI:https://www.ronank12.edu/departments/food-service/calendar/88
 27663/biscuits-and-gravy-mixed-fruit-milk
DTSTART:20260128T150000Z
DTEND:20260128T153000Z
END:VEVENT
END:VCALENDAR
