BEGIN:VCALENDAR
VERSION:2.0
PRODID:SchoolNow
CALSCALE:GREGORIAN
BEGIN:VEVENT
UID:a715275e-e50e-11f0-8c23-0affef73b657
DTSTAMP:20251229T233234Z
SUMMARY:Cheese Burger\, Potato Wedges\, Tomato\, Pickles\, Apple Crisp\, Mi
 lk
URL;VALUE=URI:https://www.ronank12.edu/departments/food-service/calendar/88
 27664/cheese-burger-potato-wedges-tomato-pickles-apple-crisp-milk
DTSTART:20260128T173000Z
DTEND:20260128T193000Z
END:VEVENT
END:VCALENDAR
