BEGIN:VCALENDAR
VERSION:2.0
PRODID:SchoolNow
CALSCALE:GREGORIAN
BEGIN:VEVENT
UID:a715293e-e50e-11f0-a700-0affef73b657
DTSTAMP:20251229T233234Z
SUMMARY:Sausage and Cheese Muffin or Cold Cereal\, Juice\, Milk\, Raisins
URL;VALUE=URI:https://www.ronank12.edu/departments/food-service/calendar/88
 27665/sausage-and-cheese-muffin-or-cold-cereal-juice-milk-raisins
DTSTART:20260129T150000Z
DTEND:20260129T153000Z
END:VEVENT
END:VCALENDAR
