BEGIN:VCALENDAR
VERSION:2.0
PRODID:SchoolNow
CALSCALE:GREGORIAN
BEGIN:VEVENT
UID:a7152b1e-e50e-11f0-bdeb-0affef73b657
DTSTAMP:20251229T233234Z
SUMMARY:Spaghetti\, Tossed Salad\, Pears\, Garlic Roll\, Milk
URL;VALUE=URI:https://www.ronank12.edu/departments/food-service/calendar/88
 27666/spaghetti-tossed-salad-pears-garlic-roll-milk
DTSTART:20260129T173000Z
DTEND:20260129T193000Z
END:VEVENT
END:VCALENDAR
