BEGIN:VCALENDAR
VERSION:2.0
PRODID:SchoolNow
CALSCALE:GREGORIAN
BEGIN:VEVENT
UID:a7152d08-e50e-11f0-bb44-0affef73b657
DTSTAMP:20251229T233234Z
SUMMARY:Cinnamon Roll\, Pineapple\, Milk
URL;VALUE=URI:https://www.ronank12.edu/departments/food-service/calendar/88
 27667/cinnamon-roll-pineapple-milk
DTSTART:20260130T150000Z
DTEND:20260130T153000Z
END:VEVENT
END:VCALENDAR
