BEGIN:VCALENDAR
VERSION:2.0
PRODID:SchoolNow
CALSCALE:GREGORIAN
BEGIN:VEVENT
UID:a7152ede-e50e-11f0-850b-0affef73b657
DTSTAMP:20251229T233234Z
SUMMARY:Hot Dog or a Chili Dog\, Tater Tots\, Peaches\, Milk
URL;VALUE=URI:https://www.ronank12.edu/departments/food-service/calendar/88
 27668/hot-dog-or-a-chili-dog-tater-tots-peaches-milk
DTSTART:20260130T173000Z
DTEND:20260130T193000Z
END:VEVENT
END:VCALENDAR
