BEGIN:VCALENDAR
VERSION:2.0
PRODID:SchoolNow
CALSCALE:GREGORIAN
BEGIN:VEVENT
UID:73c5b16a-004e-11f1-a1c7-0a58a9feac02
DTSTAMP:20260202T154717Z
SUMMARY:Maple Bar\, String Cheese\, Pears\, Milk
URL;VALUE=URI:https://www.ronank12.edu/departments/food-service/calendar/88
 47778/maple-bar-string-cheese-pears-milk
DTSTART:20260203T150000Z
DTEND:20260203T153000Z
END:VEVENT
END:VCALENDAR
