BEGIN:VCALENDAR
VERSION:2.0
PRODID:SchoolNow
CALSCALE:GREGORIAN
BEGIN:VEVENT
UID:73c5b552-004e-11f1-8ac1-0a58a9feac02
DTSTAMP:20260202T154717Z
SUMMARY:Breakfast Pizza\, Peaches\, Milk
URL;VALUE=URI:https://www.ronank12.edu/departments/food-service/calendar/88
 47779/breakfast-pizza-peaches-milk
DTSTART:20260204T150000Z
DTEND:20260204T153000Z
END:VEVENT
END:VCALENDAR
