BEGIN:VCALENDAR
VERSION:2.0
PRODID:SchoolNow
CALSCALE:GREGORIAN
BEGIN:VEVENT
UID:73c5b822-004e-11f1-bd2b-0a58a9feac02
DTSTAMP:20260202T154717Z
SUMMARY:Banana Bread\, Juice\, Dried Cherries\, Milk
URL;VALUE=URI:https://www.ronank12.edu/departments/food-service/calendar/88
 47780/banana-bread-juice-dried-cherries-milk
DTSTART:20260205T150000Z
DTEND:20260205T153000Z
END:VEVENT
END:VCALENDAR
