BEGIN:VCALENDAR
VERSION:2.0
PRODID:SchoolNow
CALSCALE:GREGORIAN
BEGIN:VEVENT
UID:73c5baca-004e-11f1-b586-0a58a9feac02
DTSTAMP:20260202T154717Z
SUMMARY:Strawberry Bagel\, Applesauce\, Milk
URL;VALUE=URI:https://www.ronank12.edu/departments/food-service/calendar/88
 47781/strawberry-bagel-applesauce-milk
DTSTART:20260206T150000Z
DTEND:20260206T153000Z
END:VEVENT
END:VCALENDAR
