BEGIN:VCALENDAR
VERSION:2.0
PRODID:SchoolNow
CALSCALE:GREGORIAN
BEGIN:VEVENT
UID:73c5bd72-004e-11f1-af42-0a58a9feac02
DTSTAMP:20260202T154717Z
SUMMARY:Cold Cereal\, Nutri Grain Bar\, Juice\, Craisins\, Milk
URL;VALUE=URI:https://www.ronank12.edu/departments/food-service/calendar/88
 47782/cold-cereal-nutri-grain-bar-juice-craisins-milk
DTSTART:20260209T150000Z
DTEND:20260209T153000Z
END:VEVENT
END:VCALENDAR
