BEGIN:VCALENDAR
VERSION:2.0
PRODID:SchoolNow
CALSCALE:GREGORIAN
BEGIN:VEVENT
UID:73c5c092-004e-11f1-957a-0a58a9feac02
DTSTAMP:20260202T154717Z
SUMMARY:Pancake on a Stick\, Mandarin Oranges\, Milk
URL;VALUE=URI:https://www.ronank12.edu/departments/food-service/calendar/88
 47783/pancake-on-a-stick-mandarin-oranges-milk
DTSTART:20260210T150000Z
DTEND:20260210T153000Z
END:VEVENT
END:VCALENDAR
