BEGIN:VCALENDAR
VERSION:2.0
PRODID:SchoolNow
CALSCALE:GREGORIAN
BEGIN:VEVENT
UID:73c5c33a-004e-11f1-9d90-0a58a9feac02
DTSTAMP:20260202T154717Z
SUMMARY:Pancake Sandwich\, Applesauce\, Milk
URL;VALUE=URI:https://www.ronank12.edu/departments/food-service/calendar/88
 47784/pancake-sandwich-applesauce-milk
DTSTART:20260211T150000Z
DTEND:20260211T153000Z
END:VEVENT
END:VCALENDAR
