BEGIN:VCALENDAR
VERSION:2.0
PRODID:SchoolNow
CALSCALE:GREGORIAN
BEGIN:VEVENT
UID:73c5c5ce-004e-11f1-af09-0a58a9feac02
DTSTAMP:20260202T154717Z
SUMMARY:Cheese Omelet\, Toast\, Juice\, Dried Cherries\, Milk
URL;VALUE=URI:https://www.ronank12.edu/departments/food-service/calendar/88
 47785/cheese-omelet-toast-juice-dried-cherries-milk
DTSTART:20260212T150000Z
DTEND:20260212T153000Z
END:VEVENT
END:VCALENDAR
