BEGIN:VCALENDAR
VERSION:2.0
PRODID:SchoolNow
CALSCALE:GREGORIAN
BEGIN:VEVENT
UID:73c5c858-004e-11f1-8adf-0a58a9feac02
DTSTAMP:20260202T154717Z
SUMMARY:Maple Bar\, String Cheese\, Apple Slices\, Milk
URL;VALUE=URI:https://www.ronank12.edu/departments/food-service/calendar/88
 47786/maple-bar-string-cheese-apple-slices-milk
DTSTART:20260213T150000Z
DTEND:20260213T153000Z
END:VEVENT
END:VCALENDAR
