BEGIN:VCALENDAR
VERSION:2.0
PRODID:SchoolNow
CALSCALE:GREGORIAN
BEGIN:VEVENT
UID:73c5cae2-004e-11f1-9653-0a58a9feac02
DTSTAMP:20260202T154717Z
SUMMARY:French Toast\, Mixed Fruit\, Milk
URL;VALUE=URI:https://www.ronank12.edu/departments/food-service/calendar/88
 47787/french-toast-mixed-fruit-milk
DTSTART:20260216T150000Z
DTEND:20260216T153000Z
END:VEVENT
END:VCALENDAR
