BEGIN:VCALENDAR
VERSION:2.0
PRODID:SchoolNow
CALSCALE:GREGORIAN
BEGIN:VEVENT
UID:73c5cd76-004e-11f1-a77b-0a58a9feac02
DTSTAMP:20260202T154717Z
SUMMARY:Pancakes\, Pears\, Milk
URL;VALUE=URI:https://www.ronank12.edu/departments/food-service/calendar/88
 47788/pancakes-pears-milk
DTSTART:20260217T150000Z
DTEND:20260217T153000Z
END:VEVENT
END:VCALENDAR
