BEGIN:VCALENDAR
VERSION:2.0
PRODID:SchoolNow
CALSCALE:GREGORIAN
BEGIN:VEVENT
UID:73c5d014-004e-11f1-848b-0a58a9feac02
DTSTAMP:20260202T154717Z
SUMMARY:Biscuits and Gravy\, Juice\, Craisins\, Milk
URL;VALUE=URI:https://www.ronank12.edu/departments/food-service/calendar/88
 47789/biscuits-and-gravy-juice-craisins-milk
DTSTART:20260218T150000Z
DTEND:20260218T153000Z
END:VEVENT
END:VCALENDAR
