BEGIN:VCALENDAR
VERSION:2.0
PRODID:SchoolNow
CALSCALE:GREGORIAN
BEGIN:VEVENT
UID:73c5d29e-004e-11f1-bf51-0a58a9feac02
DTSTAMP:20260202T154717Z
SUMMARY:Sausage and Cheese Muffin or Cold Cereal\, Juice\, Milk\, Dried Che
 rries
URL;VALUE=URI:https://www.ronank12.edu/departments/food-service/calendar/88
 47790/sausage-and-cheese-muffin-or-cold-cereal-juice-milk-dried-cherries
DTSTART:20260219T150000Z
DTEND:20260219T153000Z
END:VEVENT
END:VCALENDAR
