BEGIN:VCALENDAR
VERSION:2.0
PRODID:SchoolNow
CALSCALE:GREGORIAN
BEGIN:VEVENT
UID:73c5d532-004e-11f1-9938-0a58a9feac02
DTSTAMP:20260202T154717Z
SUMMARY:Strawberry Bagel\, Peaches\, Milk
URL;VALUE=URI:https://www.ronank12.edu/departments/food-service/calendar/88
 47791/strawberry-bagel-peaches-milk
DTSTART:20260220T150000Z
DTEND:20260220T153000Z
END:VEVENT
END:VCALENDAR
