BEGIN:VCALENDAR
VERSION:2.0
PRODID:SchoolNow
CALSCALE:GREGORIAN
BEGIN:VEVENT
UID:73c5d7e4-004e-11f1-82e6-0a58a9feac02
DTSTAMP:20260202T154717Z
SUMMARY:Cold Cereal\, Muffin\, Juice\, Craisins\, Milk
URL;VALUE=URI:https://www.ronank12.edu/departments/food-service/calendar/88
 47792/cold-cereal-muffin-juice-craisins-milk
DTSTART:20260223T150000Z
DTEND:20260223T153000Z
END:VEVENT
END:VCALENDAR
