BEGIN:VCALENDAR
VERSION:2.0
PRODID:SchoolNow
CALSCALE:GREGORIAN
BEGIN:VEVENT
UID:73c5da78-004e-11f1-97a7-0a58a9feac02
DTSTAMP:20260202T154717Z
SUMMARY:Cook’s Choice\, Juice\, Banana Chips\, Milk
URL;VALUE=URI:https://www.ronank12.edu/departments/food-service/calendar/88
 47793/cook-s-choice-juice-banana-chips-milk
DTSTART:20260224T150000Z
DTEND:20260224T153000Z
END:VEVENT
END:VCALENDAR
