BEGIN:VCALENDAR
VERSION:2.0
PRODID:SchoolNow
CALSCALE:GREGORIAN
BEGIN:VEVENT
UID:73c5dd7a-004e-11f1-afd9-0a58a9feac02
DTSTAMP:20260202T154717Z
SUMMARY:Banana Bread\, Peaches\, Milk
URL;VALUE=URI:https://www.ronank12.edu/departments/food-service/calendar/88
 47794/banana-bread-peaches-milk
DTSTART:20260225T150000Z
DTEND:20260225T153000Z
END:VEVENT
END:VCALENDAR
