BEGIN:VCALENDAR
VERSION:2.0
PRODID:SchoolNow
CALSCALE:GREGORIAN
BEGIN:VEVENT
UID:73c5e004-004e-11f1-b786-0a58a9feac02
DTSTAMP:20260202T154717Z
SUMMARY:Cheese Omelet\, Toast\, Pears\, Milk
URL;VALUE=URI:https://www.ronank12.edu/departments/food-service/calendar/88
 47795/cheese-omelet-toast-pears-milk
DTSTART:20260226T150000Z
DTEND:20260226T153000Z
END:VEVENT
END:VCALENDAR
