BEGIN:VCALENDAR
VERSION:2.0
PRODID:SchoolNow
CALSCALE:GREGORIAN
BEGIN:VEVENT
UID:73c5e28e-004e-11f1-8d68-0a58a9feac02
DTSTAMP:20260202T154717Z
SUMMARY:Chicken and Noodle Soup\, Cheese Filled Breadstick\, Carrots\, Cook
 ie\, Applesauce\, Milk
URL;VALUE=URI:https://www.ronank12.edu/departments/food-service/calendar/88
 47796/chicken-and-noodle-soup-cheese-filled-breadstick-carrots-cookie-appl
 esauce-milk
DTSTART:20260202T173000Z
DTEND:20260202T193000Z
END:VEVENT
END:VCALENDAR
