BEGIN:VCALENDAR
VERSION:2.0
PRODID:SchoolNow
CALSCALE:GREGORIAN
BEGIN:VEVENT
UID:73c5e518-004e-11f1-b230-0a58a9feac02
DTSTAMP:20260202T154717Z
SUMMARY:Chicken Strips\, Twisted Mac & Cheese\, Green Beans\, Lentils\, Man
 darins\, Milk
URL;VALUE=URI:https://www.ronank12.edu/departments/food-service/calendar/88
 47797/chicken-strips-twisted-mac-cheese-green-beans-lentils-mandarins-milk
DTSTART:20260203T173000Z
DTEND:20260203T193000Z
END:VEVENT
END:VCALENDAR
