BEGIN:VCALENDAR
VERSION:2.0
PRODID:SchoolNow
CALSCALE:GREGORIAN
BEGIN:VEVENT
UID:73c5e798-004e-11f1-a4dc-0a58a9feac02
DTSTAMP:20260202T154717Z
SUMMARY:Open Faced Cheese Sandwich\, Tomato Soup\, Broccoli\, Pears\, Milk
URL;VALUE=URI:https://www.ronank12.edu/departments/food-service/calendar/88
 47798/open-faced-cheese-sandwich-tomato-soup-broccoli-pears-milk
DTSTART:20260204T173000Z
DTEND:20260204T193000Z
END:VEVENT
END:VCALENDAR
