BEGIN:VCALENDAR
VERSION:2.0
PRODID:SchoolNow
CALSCALE:GREGORIAN
BEGIN:VEVENT
UID:73c5ea22-004e-11f1-901d-0a58a9feac02
DTSTAMP:20260202T154717Z
SUMMARY:Beef Stroganoff on Pasta\, Tossed Salad\, Mixed Fruit\, Roll\, Milk
URL;VALUE=URI:https://www.ronank12.edu/departments/food-service/calendar/88
 47799/beef-stroganoff-on-pasta-tossed-salad-mixed-fruit-roll-milk
DTSTART:20260205T173000Z
DTEND:20260205T193000Z
END:VEVENT
END:VCALENDAR
