BEGIN:VCALENDAR
VERSION:2.0
PRODID:SchoolNow
CALSCALE:GREGORIAN
BEGIN:VEVENT
UID:73c5ecca-004e-11f1-bee3-0a58a9feac02
DTSTAMP:20260202T154717Z
SUMMARY:Cold Ham and Cheese Sandwich\, Wedges\, Broccoli Chips\, Apple Slic
 es\, Milk
URL;VALUE=URI:https://www.ronank12.edu/departments/food-service/calendar/88
 47800/cold-ham-and-cheese-sandwich-wedges-broccoli-chips-apple-slices-milk
DTSTART:20260206T173000Z
DTEND:20260206T193000Z
END:VEVENT
END:VCALENDAR
