BEGIN:VCALENDAR
VERSION:2.0
PRODID:SchoolNow
CALSCALE:GREGORIAN
BEGIN:VEVENT
UID:73c5ef68-004e-11f1-bc23-0a58a9feac02
DTSTAMP:20260202T154717Z
SUMMARY:Biscuits and Sausage Gravy or PB\, Tater Tots\, Mandarin Oranges\, 
 Milk
URL;VALUE=URI:https://www.ronank12.edu/departments/food-service/calendar/88
 47801/biscuits-and-sausage-gravy-or-pb-tater-tots-mandarin-oranges-milk
DTSTART:20260209T173000Z
DTEND:20260209T193000Z
END:VEVENT
END:VCALENDAR
