BEGIN:VCALENDAR
VERSION:2.0
PRODID:SchoolNow
CALSCALE:GREGORIAN
BEGIN:VEVENT
UID:73c5f1f2-004e-11f1-b028-0a58a9feac02
DTSTAMP:20260202T154717Z
SUMMARY:Chicken Patty Sandwich\, Coleslaw\, Tomato Slices\, Pears\, Milk
URL;VALUE=URI:https://www.ronank12.edu/departments/food-service/calendar/88
 47802/chicken-patty-sandwich-coleslaw-tomato-slices-pears-milk
DTSTART:20260210T173000Z
DTEND:20260210T193000Z
END:VEVENT
END:VCALENDAR
