BEGIN:VCALENDAR
VERSION:2.0
PRODID:SchoolNow
CALSCALE:GREGORIAN
BEGIN:VEVENT
UID:73c5f47c-004e-11f1-8bac-0a58a9feac02
DTSTAMP:20260202T154717Z
SUMMARY:Hamburger Gravy\, Mashed Potatoes\, Pea Salad\, Apple Wedges\, Milk
URL;VALUE=URI:https://www.ronank12.edu/departments/food-service/calendar/88
 47803/hamburger-gravy-mashed-potatoes-pea-salad-apple-wedges-milk
DTSTART:20260211T173000Z
DTEND:20260211T193000Z
END:VEVENT
END:VCALENDAR
