BEGIN:VCALENDAR
VERSION:2.0
PRODID:SchoolNow
CALSCALE:GREGORIAN
BEGIN:VEVENT
UID:73c5f79c-004e-11f1-b6b9-0a58a9feac02
DTSTAMP:20260202T154717Z
SUMMARY:Super Nachos on Chips\, Salsa\, Tossed Salad\, Banana\, Roll\, Milk
URL;VALUE=URI:https://www.ronank12.edu/departments/food-service/calendar/88
 47804/super-nachos-on-chips-salsa-tossed-salad-banana-roll-milk
DTSTART:20260212T173000Z
DTEND:20260212T193000Z
END:VEVENT
END:VCALENDAR
