BEGIN:VCALENDAR
VERSION:2.0
PRODID:SchoolNow
CALSCALE:GREGORIAN
BEGIN:VEVENT
UID:73c5fa44-004e-11f1-8a09-0a58a9feac02
DTSTAMP:20260202T154717Z
SUMMARY:Pepperoni Pizza\, Tossed Salad\, Corn\, Strawberry Cup\, Brownie\, 
 Milk
URL;VALUE=URI:https://www.ronank12.edu/departments/food-service/calendar/88
 47805/pepperoni-pizza-tossed-salad-corn-strawberry-cup-brownie-milk
DTSTART:20260213T173000Z
DTEND:20260213T193000Z
END:VEVENT
END:VCALENDAR
