BEGIN:VCALENDAR
VERSION:2.0
PRODID:SchoolNow
CALSCALE:GREGORIAN
BEGIN:VEVENT
UID:73c5fcce-004e-11f1-88de-0a58a9feac02
DTSTAMP:20260202T154717Z
SUMMARY:Sloppy Jo on a Bun\, Potato Wedges\, Broccoli\, Pears\, Milk
URL;VALUE=URI:https://www.ronank12.edu/departments/food-service/calendar/88
 47806/sloppy-jo-on-a-bun-potato-wedges-broccoli-pears-milk
DTSTART:20260216T173000Z
DTEND:20260216T193000Z
END:VEVENT
END:VCALENDAR
